BEGIN:VCALENDAR
VERSION:2.0
PRODID:-//Jonathan&#039;s Health Club - ECPv6.15.17.1//NONSGML v1.0//EN
CALSCALE:GREGORIAN
METHOD:PUBLISH
X-WR-CALNAME:Jonathan&#039;s Health Club
X-ORIGINAL-URL:https://jhc.club
X-WR-CALDESC:Events for Jonathan&#039;s Health Club
REFRESH-INTERVAL;VALUE=DURATION:PT1H
X-Robots-Tag:noindex
X-PUBLISHED-TTL:PT1H
BEGIN:VTIMEZONE
TZID:America/New_York
BEGIN:DAYLIGHT
TZOFFSETFROM:-0500
TZOFFSETTO:-0400
TZNAME:EDT
DTSTART:20250309T070000
END:DAYLIGHT
BEGIN:STANDARD
TZOFFSETFROM:-0400
TZOFFSETTO:-0500
TZNAME:EST
DTSTART:20251102T060000
END:STANDARD
BEGIN:DAYLIGHT
TZOFFSETFROM:-0500
TZOFFSETTO:-0400
TZNAME:EDT
DTSTART:20260308T070000
END:DAYLIGHT
BEGIN:STANDARD
TZOFFSETFROM:-0400
TZOFFSETTO:-0500
TZNAME:EST
DTSTART:20261101T060000
END:STANDARD
BEGIN:DAYLIGHT
TZOFFSETFROM:-0500
TZOFFSETTO:-0400
TZNAME:EDT
DTSTART:20270314T070000
END:DAYLIGHT
BEGIN:STANDARD
TZOFFSETFROM:-0400
TZOFFSETTO:-0500
TZNAME:EST
DTSTART:20271107T060000
END:STANDARD
END:VTIMEZONE
BEGIN:VEVENT
DTSTART;TZID=America/New_York:20260428T120000
DTEND;TZID=America/New_York:20260428T130000
DTSTAMP:20260419T211418
CREATED:20260416T124251Z
LAST-MODIFIED:20260416T124251Z
UID:10000045-1777377600-1777381200@jhc.club
SUMMARY:Live Coaching Call - The Truth About Mineral Deficiencies
DESCRIPTION:Only active members are permitted to see this content. Please contact us to review your membership. \n  \n  \n            \n\n                       \n            \n        \n                              Username\n        \n        \n      \n      \n        \n          Password\n          \n            \n            \n              \n            \n          \n        \n      \n            \n         Remember Me\n      \n       \n      \n        \n        \n        \n        \n      \n    \n     \n    \n        \n          Forgot Password
URL:https://jhc.club/event/live-coaching-call-the-truth-about-mineral-deficiencies/
CATEGORIES:Coaching Calls
ATTACH;FMTTYPE=image/jpeg:https://dxv6b6cuerezx.cloudfront.net/wp-content/uploads/2026/04/16084222/JHC-Coaching-Call_The-Truth-About-Mineral-Deficiencies.jpg
END:VEVENT
END:VCALENDAR